BEGIN:VCALENDAR
VERSION:2.0
PRODID:-// - ECPv6.15.20//NONSGML v1.0//EN
CALSCALE:GREGORIAN
METHOD:PUBLISH
X-ORIGINAL-URL:https://www.onderzeilschagen.nl
X-WR-CALDESC:Evenementen voor 
REFRESH-INTERVAL;VALUE=DURATION:PT1H
X-Robots-Tag:noindex
X-PUBLISHED-TTL:PT1H
BEGIN:VTIMEZONE
TZID:Europe/Paris
BEGIN:DAYLIGHT
TZOFFSETFROM:+0100
TZOFFSETTO:+0200
TZNAME:CEST
DTSTART:20250330T010000
END:DAYLIGHT
BEGIN:STANDARD
TZOFFSETFROM:+0200
TZOFFSETTO:+0100
TZNAME:CET
DTSTART:20251026T010000
END:STANDARD
BEGIN:DAYLIGHT
TZOFFSETFROM:+0100
TZOFFSETTO:+0200
TZNAME:CEST
DTSTART:20260329T010000
END:DAYLIGHT
BEGIN:STANDARD
TZOFFSETFROM:+0200
TZOFFSETTO:+0100
TZNAME:CET
DTSTART:20261025T010000
END:STANDARD
BEGIN:DAYLIGHT
TZOFFSETFROM:+0100
TZOFFSETTO:+0200
TZNAME:CEST
DTSTART:20270328T010000
END:DAYLIGHT
BEGIN:STANDARD
TZOFFSETFROM:+0200
TZOFFSETTO:+0100
TZNAME:CET
DTSTART:20271031T010000
END:STANDARD
END:VTIMEZONE
BEGIN:VEVENT
DTSTART;TZID=Europe/Paris:20260505T110000
DTEND;TZID=Europe/Paris:20260505T150000
DTSTAMP:20260425T225152
CREATED:20260412T143310Z
LAST-MODIFIED:20260414T122419Z
UID:4634-1777978800-1777993200@www.onderzeilschagen.nl
SUMMARY:Minifestival 5 mei 2026 Schagen
DESCRIPTION:Minifestival 5 mei 2026\ninformatie deelnemers\nmaart 2026 \nBeste allemaal. \nOver klein twee maanden is het zover. Wij gaan met z’n allen 81 jaar vrijheid vieren in het cen-\ntrum van de stad Schagen. Hierbij alvast wat informatie over het festival wat wij gaan organi-\nseren. \nLocatie: centrum van de stad Schagen op het plein naast de\nGrote Kerk aan de Markt. Er wordt een tent op het plein geplaatst.\nTijd: opbouw geluid vanaf 09:00 uur\, geheel verzorgd door Onder Zeil.\nSound check: vanaf 10:15 uur.\nBegin festival: 11:00 uur. \nEigendommen/instrumenten kunnen uitgeladen worden voor de kerk (Markt zijde). En even-\ntueel opgeslagen worden in de toren op de begane grond. Bij eventuele wegafzetting even \naangeven dat jullie deelnemers zijn.\nVoorlopig speelschema: we willen graag dat de optredens vlot verlopen\, dus tussen de\nnummers zo weinig mogelijk gesproken woord. Het schema is behoorlijk krap\, hou daar\ntussentijds wel rekening mee\, en zorg dat je op tijd klaar staat voor het volgende optreden.\nDit doen wij om een zo aantrekkelijk optreden te bieden aan het publiek.\nDe dirigent laat tijdig weten met welke liederen de optredens ingevuld gaan worden.\nSolisten geef je beschikbaatheid tijdelijk door. Veel succes met de voorbereiding.\nBestuur en vrijwilligers stichting 4 en 5 mei Schagen.\nwww.4en5meischagen.nl \nVoorlopig schema\n11:00-11:25 Onder Zeil                                   25 min\n11:30-11:55 ‘t Scheepstuyg                             25 min\n12:00-12:25 Havenstraatzangers                     25 min\n12:30-13:00 Onder Zeil                                   30 min\n13:10-13:40 ‘t Scheepstuygh                           30 min\n13:45-14:15 Havenstraatzangers                     30 min\n14:20-15:00 Onder Zeil / slotstuk eventueel   30 + 10 min\nmet ‘t Scheepstuygh \n  \nGegevens organisatie en deelnemers.\nOrganisatie: Stichting 4 en 5 mei Schagen\, Maarten Weel 06 25195024\,\ninfo@4en5meischagen.nl\nFloormanager: Onder Zeil\, Nico Roelse\, 06 53295737\, n.roelse@gmail.com\nGeluid: Onder Zeil\, Nico Noordstrand\, 06 13243526\, niconoordstrand@live.nl\nGeluidsversterking: DSL Geluids- & Lichtverhuur\, Martijn de Bonte\nDirigent: Onder Zeil: Fred Lagerweij\, 06 27623906\, fred1lagerweij@gmail.com\nContactpersoon: ‘t Scheepstuygh: Arie Tamis\, 06 51403522\, arietamis42@gmail.com\nContactp.Havenstraatzangers: Jacqueline Luken\, 06 37352274\,\nhavenstraatzangers@gmail.com \nAls basis geluidversterking wordt het geluid van Onder Zeil gebruikt met aanvulling van extra\nversterker en geluidboxen van DSL. Deze installatie blijft als basis staan en heeft voldoende\ncapaciteit en aansluitmogelijkheden voor al het optreden. Hierdoor is een snelle chancement\nmogelijk.\nEr zijn voldoende microfoons aanwezig. Het gebruik van de gitaarversterkers\, in overleg.\nDe geluidsregeling wordt uitgevoerd door de geluidsman van Onder Zeil zie bovenstaande.\nGraag ontvangen wij van jullie een korte beschrijving en\ntwee recentelijke foto’s voor publiciteit en onze website:\ninfo@4en5meischagen.nl\nwww.4en5meischagen.nl
URL:https://www.onderzeilschagen.nl/journaal/minifestival-5-mei-2026-schagen/
LOCATION:Schagen markt\, Markt\, Schagen\, N H\, 1741 BS\, Netherlands
ORGANIZER;CN="Stichting 4 en 5 Mei Schagen":MAILTO:info@4en5meischagen.nl
END:VEVENT
END:VCALENDAR