BEGIN:VCALENDAR
VERSION:2.0
PRODID:-// - ECPv6.15.20//NONSGML v1.0//EN
CALSCALE:GREGORIAN
METHOD:PUBLISH
X-ORIGINAL-URL:https://www.onderzeilschagen.nl
X-WR-CALDESC:Evenementen voor 
REFRESH-INTERVAL;VALUE=DURATION:PT1H
X-Robots-Tag:noindex
X-PUBLISHED-TTL:PT1H
BEGIN:VTIMEZONE
TZID:Europe/Paris
BEGIN:DAYLIGHT
TZOFFSETFROM:+0100
TZOFFSETTO:+0200
TZNAME:CEST
DTSTART:20240331T010000
END:DAYLIGHT
BEGIN:STANDARD
TZOFFSETFROM:+0200
TZOFFSETTO:+0100
TZNAME:CET
DTSTART:20241027T010000
END:STANDARD
BEGIN:DAYLIGHT
TZOFFSETFROM:+0100
TZOFFSETTO:+0200
TZNAME:CEST
DTSTART:20250330T010000
END:DAYLIGHT
BEGIN:STANDARD
TZOFFSETFROM:+0200
TZOFFSETTO:+0100
TZNAME:CET
DTSTART:20251026T010000
END:STANDARD
BEGIN:DAYLIGHT
TZOFFSETFROM:+0100
TZOFFSETTO:+0200
TZNAME:CEST
DTSTART:20260329T010000
END:DAYLIGHT
BEGIN:STANDARD
TZOFFSETFROM:+0200
TZOFFSETTO:+0100
TZNAME:CET
DTSTART:20261025T010000
END:STANDARD
END:VTIMEZONE
BEGIN:VEVENT
DTSTART;TZID=Europe/Paris:20250823T080000
DTEND;TZID=Europe/Paris:20250823T170000
DTSTAMP:20260425T225115
CREATED:20250817T092950Z
LAST-MODIFIED:20250817T093550Z
UID:4546-1755936000-1755968400@www.onderzeilschagen.nl
SUMMARY:Optreden petten 23 augustus
DESCRIPTION:  \n  \nHierbij veel informatie over 23 augustus\, Pleinfeest Petten \nHet is voor ons een kort en strak programma! \nDe techniek lijkt geregeld\, maar afstemming is zeker nodig! \nHeren van de techniek\, neem s.v.p. contact op Higher Ground \nproductions\, Arne Meintjes om e.e.a. door te spreken (zie info in \nbijgaande brief.) \nHet kan alleen maar een kort en krachtig optreden worden. \n  \nZeemanskoor ONDER ZEIL \n14.20 uur tot 14.40 uur \n15.10 uur tot 15.40 uur \n  \nGroet\, \nNico Roelse \n  \nLine Up \nOnderstaand de optreedtijden van de Koren\, de artiesten en de bands. \nLET OP\, de tijden dienen stipt aangehouden worden. \nER IS GEEN UITLOOP. De eindtijd is 23.00 uur. \nKoor HET SCHEEPSTUYGH \n14.00 uur tot 14.20 uur \n14.40 uur tot 15.10 uur \nZeemanskoor ONDER ZEIL \n14.20 uur tot 14.40 uur \n15.10 uur tot 15.40 uur \nBand The Farce \n15.40 uur tot 16.10 uur \n16.30 uur tot 17.00 uur \nPeter Meyer \n16.10 uur tot 16.30 uur \n17.00 uur tot 17.20 uur \n18.00 uur tot 18.20 uur \nDe Hijgende Herten \n17.20 uur tot 18.00 uur \n19.30 uur tot 20.10 uur \n21.40 uur tot 22.10. uur \nAnnelie Smits \n19.00 uur tot 19.30 uur \n20.10 uur tot 20.40 uur \n21.20 uur tot 21.40 uur \nThe Feel Like Dancing Party Band \n18.20 uur tot 19.00 uur \n20.40 uur tot 21.20 uur \n22.20 uur tot 23.00 uur \n  \n  \n 
URL:https://www.onderzeilschagen.nl/journaal/optreden-petten/
END:VEVENT
BEGIN:VEVENT
DTSTART;TZID=Europe/Paris:20250828T080000
DTEND;TZID=Europe/Paris:20250828T170000
DTSTAMP:20260425T225115
CREATED:20250817T093405Z
LAST-MODIFIED:20250817T093957Z
UID:4550-1756368000-1756400400@www.onderzeilschagen.nl
SUMMARY:Optreden West-Friese markt 28 augustus
DESCRIPTION:Op donderdag 28 augustus hebben wij weer een optreden op de west Friese markt schagen
URL:https://www.onderzeilschagen.nl/journaal/optreden-west-friese-markt-28-augustus/
LOCATION:Schagen markt\, Markt\, Schagen\, N H\, 1741 BS\, Netherlands
END:VEVENT
END:VCALENDAR