BEGIN:VCALENDAR
VERSION:2.0
PRODID:-// - ECPv6.15.20//NONSGML v1.0//EN
CALSCALE:GREGORIAN
METHOD:PUBLISH
X-ORIGINAL-URL:https://www.onderzeilschagen.nl
X-WR-CALDESC:Evenementen voor 
REFRESH-INTERVAL;VALUE=DURATION:PT1H
X-Robots-Tag:noindex
X-PUBLISHED-TTL:PT1H
BEGIN:VTIMEZONE
TZID:Europe/Paris
BEGIN:DAYLIGHT
TZOFFSETFROM:+0100
TZOFFSETTO:+0200
TZNAME:CEST
DTSTART:20240331T010000
END:DAYLIGHT
BEGIN:STANDARD
TZOFFSETFROM:+0200
TZOFFSETTO:+0100
TZNAME:CET
DTSTART:20241027T010000
END:STANDARD
BEGIN:DAYLIGHT
TZOFFSETFROM:+0100
TZOFFSETTO:+0200
TZNAME:CEST
DTSTART:20250330T010000
END:DAYLIGHT
BEGIN:STANDARD
TZOFFSETFROM:+0200
TZOFFSETTO:+0100
TZNAME:CET
DTSTART:20251026T010000
END:STANDARD
BEGIN:DAYLIGHT
TZOFFSETFROM:+0100
TZOFFSETTO:+0200
TZNAME:CEST
DTSTART:20260329T010000
END:DAYLIGHT
BEGIN:STANDARD
TZOFFSETFROM:+0200
TZOFFSETTO:+0100
TZNAME:CET
DTSTART:20261025T010000
END:STANDARD
END:VTIMEZONE
BEGIN:VEVENT
DTSTART;TZID=Europe/Paris:20250505T080000
DTEND;TZID=Europe/Paris:20250505T170000
DTSTAMP:20260425T195407
CREATED:20241208T152424Z
LAST-MODIFIED:20250416T114608Z
UID:4456-1746432000-1746464400@www.onderzeilschagen.nl
SUMMARY:Optreden viering "80 jaar vrijheid" op het podium grote kerk in Schagen
DESCRIPTION:  \nOp 5 mei wordt\,  ter gelegenheid van de viering “80 jaar vrijheid”\, \neen mini – shantyfestival gehouden op het plein van de grote kerk in Schagen \n  \nDit evenement wordt georganiseerd door de “Stichting 4 en 5 mei mei Schagen” en duurt van 11.00 tot 15.00 uur. \nAan het shantyfestival doen naast Onder Zeil nog 2 andere koren/muziekgroepen mee. \nRond 13.00 u. worden hardlopers met het vrijheidsvuur verwelkomd. \nDe toegang is gratis. Kom tijdig om dit muziekfeest en de vrijheid mee te vieren.
URL:https://www.onderzeilschagen.nl/journaal/mini-shanty-festival-5-mei-plein-grote-kerk-schagen/
LOCATION:Schagen markt\, Markt\, Schagen\, N H\, 1741 BS\, Netherlands
END:VEVENT
END:VCALENDAR