BEGIN:VCALENDAR
VERSION:2.0
PRODID:-// - ECPv6.15.20//NONSGML v1.0//EN
CALSCALE:GREGORIAN
METHOD:PUBLISH
X-ORIGINAL-URL:https://www.onderzeilschagen.nl
X-WR-CALDESC:Evenementen voor 
REFRESH-INTERVAL;VALUE=DURATION:PT1H
X-Robots-Tag:noindex
X-PUBLISHED-TTL:PT1H
BEGIN:VTIMEZONE
TZID:Europe/Paris
BEGIN:DAYLIGHT
TZOFFSETFROM:+0100
TZOFFSETTO:+0200
TZNAME:CEST
DTSTART:20180325T010000
END:DAYLIGHT
BEGIN:STANDARD
TZOFFSETFROM:+0200
TZOFFSETTO:+0100
TZNAME:CET
DTSTART:20181028T010000
END:STANDARD
BEGIN:DAYLIGHT
TZOFFSETFROM:+0100
TZOFFSETTO:+0200
TZNAME:CEST
DTSTART:20190331T010000
END:DAYLIGHT
BEGIN:STANDARD
TZOFFSETFROM:+0200
TZOFFSETTO:+0100
TZNAME:CET
DTSTART:20191027T010000
END:STANDARD
BEGIN:DAYLIGHT
TZOFFSETFROM:+0100
TZOFFSETTO:+0200
TZNAME:CEST
DTSTART:20200329T010000
END:DAYLIGHT
BEGIN:STANDARD
TZOFFSETFROM:+0200
TZOFFSETTO:+0100
TZNAME:CET
DTSTART:20201025T010000
END:STANDARD
BEGIN:DAYLIGHT
TZOFFSETFROM:+0100
TZOFFSETTO:+0200
TZNAME:CEST
DTSTART:20210328T010000
END:DAYLIGHT
BEGIN:STANDARD
TZOFFSETFROM:+0200
TZOFFSETTO:+0100
TZNAME:CET
DTSTART:20211031T010000
END:STANDARD
BEGIN:DAYLIGHT
TZOFFSETFROM:+0100
TZOFFSETTO:+0200
TZNAME:CEST
DTSTART:20220327T010000
END:DAYLIGHT
BEGIN:STANDARD
TZOFFSETFROM:+0200
TZOFFSETTO:+0100
TZNAME:CET
DTSTART:20221030T010000
END:STANDARD
BEGIN:DAYLIGHT
TZOFFSETFROM:+0100
TZOFFSETTO:+0200
TZNAME:CEST
DTSTART:20230326T010000
END:DAYLIGHT
BEGIN:STANDARD
TZOFFSETFROM:+0200
TZOFFSETTO:+0100
TZNAME:CET
DTSTART:20231029T010000
END:STANDARD
BEGIN:DAYLIGHT
TZOFFSETFROM:+0100
TZOFFSETTO:+0200
TZNAME:CEST
DTSTART:20240331T010000
END:DAYLIGHT
BEGIN:STANDARD
TZOFFSETFROM:+0200
TZOFFSETTO:+0100
TZNAME:CET
DTSTART:20241027T010000
END:STANDARD
BEGIN:DAYLIGHT
TZOFFSETFROM:+0100
TZOFFSETTO:+0200
TZNAME:CEST
DTSTART:20250330T010000
END:DAYLIGHT
BEGIN:STANDARD
TZOFFSETFROM:+0200
TZOFFSETTO:+0100
TZNAME:CET
DTSTART:20251026T010000
END:STANDARD
BEGIN:DAYLIGHT
TZOFFSETFROM:+0100
TZOFFSETTO:+0200
TZNAME:CEST
DTSTART:20260329T010000
END:DAYLIGHT
BEGIN:STANDARD
TZOFFSETFROM:+0200
TZOFFSETTO:+0100
TZNAME:CET
DTSTART:20261025T010000
END:STANDARD
BEGIN:DAYLIGHT
TZOFFSETFROM:+0100
TZOFFSETTO:+0200
TZNAME:CEST
DTSTART:20270328T010000
END:DAYLIGHT
BEGIN:STANDARD
TZOFFSETFROM:+0200
TZOFFSETTO:+0100
TZNAME:CET
DTSTART:20271031T010000
END:STANDARD
END:VTIMEZONE
BEGIN:VEVENT
DTSTART;TZID=Europe/Paris:20200309T193000
DTEND;TZID=Europe/Paris:20200309T213000
DTSTAMP:20260426T035518
CREATED:20190124T155227Z
LAST-MODIFIED:20200128T133450Z
UID:1829-1583782200-1583789400@www.onderzeilschagen.nl
SUMMARY:JAARVERGADERING
DESCRIPTION:Op maandag 9 maart 2020 houden we onze jaarlijkse ledenvergadering in ons clubgebouw.\nAanvang 19:30 uur.
URL:https://www.onderzeilschagen.nl/journaal/jaarvergadering/
LOCATION:Magnusveste\, Menisweg 6\, Schagen\, 1742NJ\, Nederland
END:VEVENT
BEGIN:VEVENT
DTSTART;TZID=Europe/Paris:20200201T090000
DTEND;TZID=Europe/Paris:20200201T160000
DTSTAMP:20260426T035518
CREATED:20190116T123744Z
LAST-MODIFIED:20200123T153528Z
UID:1770-1580547600-1580572800@www.onderzeilschagen.nl
SUMMARY:HET ZINGENDE KEUENTOERNOOI
DESCRIPTION:Op zaterdag 1 februari gaan bemanningsleden van “Onder Zeil” in een biljarttoernooi de strijd aan om de beker voor de beste biljarter van het koor..\nHet toernooi wordt gehouden in “MARKT 18” in de biljartruimte die beschikbaar is gesteld door de “SOOS”.
URL:https://www.onderzeilschagen.nl/journaal/het-zingende-keuentoernooi/
LOCATION:MARKT 18 SOOS\, Torenstraat 1C\, 1741 CB\, Nederland
END:VEVENT
BEGIN:VEVENT
DTSTART;TZID=Europe/Paris:20200126T110000
DTEND;TZID=Europe/Paris:20200126T140000
DTSTAMP:20260426T035518
CREATED:20181016T191920Z
LAST-MODIFIED:20200123T175615Z
UID:1655-1580036400-1580047200@www.onderzeilschagen.nl
SUMMARY:KOFFIE - BENEFIETCONCERT in het kerkje van VALKKOOG
DESCRIPTION:Op zondag 26 januari zijn de koren “ONDER ZEIL”en het “KEETKOOR” uitgenodigd voor een koffie/benefietconcert in het kerkje van Valkkoog.\nHet koffie/benefietconcert is ten bate van NOORDERBAKENS.Intree: €7\,50\nKaarten voor dit benefietconcert te bestellen via E-mail bij Hans Everkers: jeverkers@quicknet.nl \nEr wordt tevens een loterij gehouden.\nVoor het programma van het benefietconcert klik op de hiernaast staande blauwe link: PROGRAMMA BENEFIETCONCERT \nDe huur van kerkje in Valkkoog\, de koffie met een koekje en de overige kosten worden gesponsord!\nOpening door Hans Leeuwenkamp om 11:00 uur.
URL:https://www.onderzeilschagen.nl/journaal/gezamenlijk-optreden-keetkoor-onderzeil/
LOCATION:1744GB Valkkoog\, Valkkogerweg 39\, Valkkoog\, 1744GB\, Nederland
END:VEVENT
BEGIN:VEVENT
DTSTART;TZID=Europe/Paris:20200109T200000
DTEND;TZID=Europe/Paris:20200109T213000
DTSTAMP:20260426T035518
CREATED:20190221T105747Z
LAST-MODIFIED:20191224T150847Z
UID:1863-1578600000-1578605400@www.onderzeilschagen.nl
SUMMARY:camping DE WATERSNIP voor VROUWEN van NU
DESCRIPTION:“Vrouwen van Nu”vieren dan hun 85 jarig bestaan. Het optreden is op donderdagavond 9 januari 2020 vanaf 20:00 uur.\nCamping De Watersnip\, Pettemerweg 4\, 1755 KK Petten.\nVerzamelen op de parkeerplaats om: 19:00 uur\nVertrek vanaf de parkeerplaats om: 19:10 uur.\nAanwezig om: 19:30 uur\nBegin optreden: 20:00 uur
URL:https://www.onderzeilschagen.nl/journaal/camping-de-watersnip-voor-vrouwen-van-nu/
LOCATION:Pettemerweg 4\, 1755KK PETTEN\, Pettemerweg 4\, 1755 KK\, Nederland
END:VEVENT
BEGIN:VEVENT
DTSTART;TZID=Europe/Paris:20191229T133000
DTEND;TZID=Europe/Paris:20191229T173000
DTSTAMP:20260426T035518
CREATED:20190516T140838Z
LAST-MODIFIED:20191218T121620Z
UID:1964-1577626200-1577640600@www.onderzeilschagen.nl
SUMMARY:DE  RIJP meezingmiddag met het "Eilandspolderkoor"
DESCRIPTION:Op zondag 29 december gaan we naar De Rijp. Daar hebben we een “meezingmiddag”met het “Eilandspolderkoor” in de sporthal “De Oosterven”. De middag begint om 13:30 uur.\nDaar vindt een meezingmiddag plaats en is er gelegenheid om gebruik te maken van een plateservice\, voor degenen die zich hiervoor hebben opgegeven..\nDe entree bedraagt € 5\,00 inclusief een kop koffie of thee. In de pauze worden er loten verkocht voor de tombola. De meezingmiddag begint om 13.30 uur en eindigt om 17.00 uur. \nOm een en ander in goede banen te leiden\, het volgende: \nVerzamelen op de parkeerplaats om	 		: 12.00 uur \nVertrek vanaf de parkeerplaats om		  	: 12.20 uur. \nAanwezig om						: 13.00 uur \nBegin meezingmiddag					: 13.30 uur \nHet adres is: Sporthal Oosterven\, Jan Ploegerlaan 2\, 1483 VR de Rijp.
URL:https://www.onderzeilschagen.nl/journaal/de-rijp/
LOCATION:1483 VR Graft De Rijp\, Jan Ploegerlaan 2\, Graft-De Rijp\, 1483 VR
END:VEVENT
BEGIN:VEVENT
DTSTART;TZID=Europe/Paris:20261216T140000
DTEND;TZID=Europe/Paris:20261216T140000
DTSTAMP:20260426T035518
CREATED:20190326T161431Z
LAST-MODIFIED:20260420T153300Z
UID:1906-1797429600-1797429600@www.onderzeilschagen.nl
SUMMARY:KBO afdeling TUITJENHORN 16 December 2026
DESCRIPTION:Op vrijdag 16 december treden wij op voor het KBO\, afdeling Tuitjenhorn.\nOptreden van 14:30 uur tot 16:15 uur.
URL:https://www.onderzeilschagen.nl/journaal/kbo-afdeling-tuitjenhorn/
LOCATION:Dorpshuis Ahoy\, Dorpsstraat 37 Tuitjenhorn\, Tuitjenhorn\, 1774 HA
END:VEVENT
BEGIN:VEVENT
DTSTART;TZID=Europe/Paris:20191123T140000
DTEND;TZID=Europe/Paris:20191123T170000
DTSTAMP:20260426T035518
CREATED:20190801T171754Z
LAST-MODIFIED:20191119T154119Z
UID:2004-1574517600-1574528400@www.onderzeilschagen.nl
SUMMARY:DORPSHUIS te SINT MAARTEN
DESCRIPTION:Ook op zaterdag 23 november 2019 zijn wij te beluisteren in het dorpshuis in Sint Maarten.\nHet adres van het dorpshuis is: Dorpsstraat 9c\, 1744 KJ Sint Maarten. \nHet optreden begint om 14:00 uur\, maar het is gebruikelijk om een half uur van tevoren aanwezig zijn.\nOm het een en ander in goede banen te leiden zijn de volgende afspraken van belang.\nVerzamelen op de parkeerplaats		: 13.00 uur\nVertrek				  	: 13.15 uur
URL:https://www.onderzeilschagen.nl/journaal/dorpshuis-te-sint-maarten-2/
LOCATION:1744KJ Sint Maarten\, Dorpsstraat 9\, Sint Maarten\, 1744KJ\, Nederland
END:VEVENT
BEGIN:VEVENT
DTSTART;TZID=Europe/Paris:20191108T140000
DTEND;TZID=Europe/Paris:20191108T170000
DTSTAMP:20260426T035518
CREATED:20190516T134826Z
LAST-MODIFIED:20191028T084941Z
UID:1957-1573221600-1573232400@www.onderzeilschagen.nl
SUMMARY:Mantelzorgcentrum Den Helder
DESCRIPTION:OP vrijdag 8 november treden wij op in het Koninklijk Instituut van de Marine te Den Helder.\nHet optreden is georganiseerd door het Mantelzorgcentrum Den Helder. \nHet optreden begint om 14:00 uur.\nHet is een besloten bijeenkomst. \nHet adres is: Het Nieuwe Diep 8\, 1781 AC Den Helder.\n Wij kunnen ons melden bij de slagboom van het KIM\, tussen de twee historische gebouwen.\nOmdat we ons op militair terrein bevinden\, is een geldig legitimatiebewijs van belang zoals paspoort\, identiteitskaart of rijbewijs.  \nOm het een en ander in goede banen te leiden zijn de volgende afspraken van belang. \n Verzamelen op de parkeerplaats: 12:45 uur \n Vertrek vanaf de parkeerplaats: 13:00 uur \n Aanwezig in het KIM            : 13:30 uur.
URL:https://www.onderzeilschagen.nl/journaal/mantelzorgcentrum-den-helder/
LOCATION:Het Nieuwe Diep 8\, 1781 AC Den Helder.\, Het Nieuwe Diep 8\, Den Helder\, 1781AC\, Nederland
END:VEVENT
BEGIN:VEVENT
DTSTART;TZID=Europe/Paris:20191026T140000
DTEND;TZID=Europe/Paris:20191026T170000
DTSTAMP:20260426T035518
CREATED:20190326T160201Z
LAST-MODIFIED:20191017T120148Z
UID:1903-1572098400-1572109200@www.onderzeilschagen.nl
SUMMARY:Dorpshuis Sint Maarten
DESCRIPTION:Optreden op zaterdag 26 oktober 2019 in het dorpshuis in Sint Maarten tezamen met muziekvereniging “De Toekomst”. \nAanvang 14:00 uur \nOm de beurt is er een optreden van “Onder Zeil” en de muziekvereniging “De Toekomst”.\nDe dirigent van “De Toekomst” is Steffen Snip. Zij spelen bigbandmuziek\, pop\, rock\, filmmuziek en soms ook licht klassiek.\nDie vereniging bestaat uit circa 30 leden en hebben een variabele muziekvorm. \nVoor nog meer informatie klik op de blauwe link Dorpshuis Sint MaartenDorpshuis Sint Maarten
URL:https://www.onderzeilschagen.nl/journaal/dorpshuis-sint-maarten/
LOCATION:Dorpshuis Sint Maarten\, Dorpsstraat 9c\, Sint Maarten\, 1744KJ
END:VEVENT
BEGIN:VEVENT
DTSTART;TZID=Europe/Paris:20190918T143000
DTEND;TZID=Europe/Paris:20190918T160000
DTSTAMP:20260426T035518
CREATED:20190221T104838Z
LAST-MODIFIED:20190915T110750Z
UID:1861-1568817000-1568822400@www.onderzeilschagen.nl
SUMMARY:woonzorggroep WILGAERDEN\, locatie WESTERHAVEN
DESCRIPTION:Optreden in woonzorggroep Wilgaerden\, locatie Westerhaven\, Achterom 1\, 1621KP Hoorn.\nVerzamelen op de parkeerplaats: 13.00 uur \nVertrek: 13.15 uur \nReistijd ca : 40 minuten \nOptreden: 14.30 uur tot 15.15 uur en van: 15.30 uur tot 16.00 uur
URL:https://www.onderzeilschagen.nl/journaal/woonzorggroep-wilgaerden-locatie-westerhaven/
LOCATION:Achterom 1  1621KP Hoorn\, Achterom 1\, Hoorn\, 1621KP\, Nederland
END:VEVENT
BEGIN:VEVENT
DTSTART;TZID=Europe/Paris:20190908T130000
DTEND;TZID=Europe/Paris:20190908T173000
DTSTAMP:20260426T035518
CREATED:20190326T154525Z
LAST-MODIFIED:20190804T111814Z
UID:1896-1567947600-1567963800@www.onderzeilschagen.nl
SUMMARY:17e  Internationaal Shanty Seasong Festival in Emmen
DESCRIPTION:Wij zijn uitgenodigd om op zondag 8 september 2019 mee te doen aan het 17e Internationaal Shanty Seasong Festival in het centrum van Emmen. Er waren 107 aanmeldingen voor dit festival. Er nemen 24 koren deel\, verdeeld over 8 podia. Een unieke kans om ons koor weer op de kaart te zetten. Het festival begint om 13:00 uur en duurt tot ongeveer 17:30 uur. \nGeen samenzang.\nWat komt er voor in de plaats een gezamenlijke opening om 12.30 uur bij het hoofdpodium naast de Hema.\nHier worden dus alle koren verwacht en zal de opening plaats vinden door wethouder Robert Kleine en voorzitter Hans Groenendal namens de Stichting Shanty Cultuur Emmen.\nCentrum van EMMEN \n0005. Programmaboekje pagina.1. festival 2019 2\n006. Programmaboekje pagina2. festival 2019\nEmmen Podium Indeling 2019
URL:https://www.onderzeilschagen.nl/journaal/17e-internationaal-shanty-seasong-festival-in-emmen/
LOCATION:Centrummanagement infopunt Marktplein 140 7811BA\, Emmen\, Marktplein 140\, Emmen\, 7811BA
END:VEVENT
BEGIN:VEVENT
DTSTART;TZID=Europe/Paris:20190217T130000
DTEND;TZID=Europe/Paris:20190217T160000
DTSTAMP:20260426T035518
CREATED:20181016T192847Z
LAST-MODIFIED:20190124T155711Z
UID:1657-1550408400-1550419200@www.onderzeilschagen.nl
SUMMARY:De Laatste Druppel en Onder Zeil gezamenlijk in PETTEN
DESCRIPTION:Op zondag 17 februari is er een gezamenlijk optreden in Petten van het “De Laatste Druppel” uit Petten en het Schager Zeemanskoor “Onder Zeil” uit Schagen.\nHet optreden zal plaatsvinden op recreatiepark De Watersnip\, Pettemerweg 4\, 1755 KK Petten.\nHet optreden is van 13:00 tot 16:00 uur. \nHet is een openbaar optreden dus iedereen is welkom . \nNeem familie en vrienden mee!!! \nHet repertoire van “De Laatste Druppel” is:\nHet levenslied\, Engelstalig vertaalde Songs.\nHet is een scala van muzikaal zangplezier geworden\, waarvan de leden en zeker ook het publiek met volle teugen geniet. \nKijk ook op de Website van het koor “De Laatste Druppel
URL:https://www.onderzeilschagen.nl/journaal/de-laatste-druppel-en-onder-zeil-gezamenlijk-in-petten/
LOCATION:Pettemerweg 4\, 1755KK PETTEN\, Pettemerweg 4\, 1755 KK\, Nederland
END:VEVENT
BEGIN:VEVENT
DTSTART;TZID=Europe/Paris:20190215T140000
DTEND;TZID=Europe/Paris:20190215T170000
DTSTAMP:20260426T035518
CREATED:20180107T163914Z
LAST-MODIFIED:20190206T150139Z
UID:1402-1550239200-1550250000@www.onderzeilschagen.nl
SUMMARY:"DE SCHAKEL" te SPANBROEK voor de Zonnebloem
DESCRIPTION:Op 15 februari optreden wij op voor de ZONNEBLOEM in verzorgingshuis “De Schakel” \, Pastoor Meriusstraat 2\, 1715VA Spanbroek. \n\n\nVerzamelen bij het clubgebouw   :            13:00 uur \nAanwezig in Spanbroek om          :           13:30 uur \nBegin optreden                                :        14:00 uur. \n\n\nWe treden 2 x 40/45 minuten op met een pauze van ongeveer 20 minuten \nOnze auto’s kunnen aan de overkant voor de flat worden geparkeerd.
URL:https://www.onderzeilschagen.nl/journaal/spanbroek/
LOCATION:1715VA Spanbroek\, Pastoor Meriusstraat 2\, Spanbroek\, 1715VA\, Nederland
END:VEVENT
END:VCALENDAR