BEGIN:VCALENDAR
VERSION:2.0
PRODID:-// - ECPv6.15.20//NONSGML v1.0//EN
CALSCALE:GREGORIAN
METHOD:PUBLISH
X-ORIGINAL-URL:https://www.onderzeilschagen.nl
X-WR-CALDESC:Evenementen voor 
REFRESH-INTERVAL;VALUE=DURATION:PT1H
X-Robots-Tag:noindex
X-PUBLISHED-TTL:PT1H
BEGIN:VTIMEZONE
TZID:Europe/Paris
BEGIN:DAYLIGHT
TZOFFSETFROM:+0100
TZOFFSETTO:+0200
TZNAME:CEST
DTSTART:20180325T010000
END:DAYLIGHT
BEGIN:STANDARD
TZOFFSETFROM:+0200
TZOFFSETTO:+0100
TZNAME:CET
DTSTART:20181028T010000
END:STANDARD
BEGIN:DAYLIGHT
TZOFFSETFROM:+0100
TZOFFSETTO:+0200
TZNAME:CEST
DTSTART:20190331T010000
END:DAYLIGHT
BEGIN:STANDARD
TZOFFSETFROM:+0200
TZOFFSETTO:+0100
TZNAME:CET
DTSTART:20191027T010000
END:STANDARD
BEGIN:DAYLIGHT
TZOFFSETFROM:+0100
TZOFFSETTO:+0200
TZNAME:CEST
DTSTART:20200329T010000
END:DAYLIGHT
BEGIN:STANDARD
TZOFFSETFROM:+0200
TZOFFSETTO:+0100
TZNAME:CET
DTSTART:20201025T010000
END:STANDARD
BEGIN:DAYLIGHT
TZOFFSETFROM:+0100
TZOFFSETTO:+0200
TZNAME:CEST
DTSTART:20210328T010000
END:DAYLIGHT
BEGIN:STANDARD
TZOFFSETFROM:+0200
TZOFFSETTO:+0100
TZNAME:CET
DTSTART:20211031T010000
END:STANDARD
BEGIN:DAYLIGHT
TZOFFSETFROM:+0100
TZOFFSETTO:+0200
TZNAME:CEST
DTSTART:20220327T010000
END:DAYLIGHT
BEGIN:STANDARD
TZOFFSETFROM:+0200
TZOFFSETTO:+0100
TZNAME:CET
DTSTART:20221030T010000
END:STANDARD
BEGIN:DAYLIGHT
TZOFFSETFROM:+0100
TZOFFSETTO:+0200
TZNAME:CEST
DTSTART:20230326T010000
END:DAYLIGHT
BEGIN:STANDARD
TZOFFSETFROM:+0200
TZOFFSETTO:+0100
TZNAME:CET
DTSTART:20231029T010000
END:STANDARD
BEGIN:DAYLIGHT
TZOFFSETFROM:+0100
TZOFFSETTO:+0200
TZNAME:CEST
DTSTART:20240331T010000
END:DAYLIGHT
BEGIN:STANDARD
TZOFFSETFROM:+0200
TZOFFSETTO:+0100
TZNAME:CET
DTSTART:20241027T010000
END:STANDARD
BEGIN:DAYLIGHT
TZOFFSETFROM:+0100
TZOFFSETTO:+0200
TZNAME:CEST
DTSTART:20250330T010000
END:DAYLIGHT
BEGIN:STANDARD
TZOFFSETFROM:+0200
TZOFFSETTO:+0100
TZNAME:CET
DTSTART:20251026T010000
END:STANDARD
BEGIN:DAYLIGHT
TZOFFSETFROM:+0100
TZOFFSETTO:+0200
TZNAME:CEST
DTSTART:20260329T010000
END:DAYLIGHT
BEGIN:STANDARD
TZOFFSETFROM:+0200
TZOFFSETTO:+0100
TZNAME:CET
DTSTART:20261025T010000
END:STANDARD
BEGIN:DAYLIGHT
TZOFFSETFROM:+0100
TZOFFSETTO:+0200
TZNAME:CEST
DTSTART:20270328T010000
END:DAYLIGHT
BEGIN:STANDARD
TZOFFSETFROM:+0200
TZOFFSETTO:+0100
TZNAME:CET
DTSTART:20271031T010000
END:STANDARD
END:VTIMEZONE
BEGIN:VEVENT
DTSTART;VALUE=DATE:20220525
DTEND;VALUE=DATE:20220526
DTSTAMP:20260426T052302
CREATED:20220319T144524Z
LAST-MODIFIED:20220319T144524Z
UID:3726-1653436800-1653523199@www.onderzeilschagen.nl
SUMMARY:Optreden in instelling Wilgaerden in Hoorn
DESCRIPTION:Dit is een optreden voor de bewoners van het  woonzorgcentrum Wilgaerden aanvang 14.30
URL:https://www.onderzeilschagen.nl/journaal/optreden-in-instelling-wilgaerden-in-hoorn/
LOCATION:Achterom 1 1621KP Hoorn\, Achterom 1\, Hoorn\, nh\, 1621kp\, Nederland
END:VEVENT
BEGIN:VEVENT
DTSTART;TZID=Europe/Paris:20220520T080000
DTEND;TZID=Europe/Paris:20220520T170000
DTSTAMP:20260426T052302
CREATED:20220504T100258Z
LAST-MODIFIED:20220510T125046Z
UID:3790-1653033600-1653066000@www.onderzeilschagen.nl
SUMMARY:OPTREDEN IN OUDESLUIS 14:00 uur
DESCRIPTION:SPEELLIJST “OUDESLUIS” \n20 MEI 2022\, aanvang 15:15 uur \n  \nVanaf 14:00 uur is de kerk geopend\, alwaar wij eventueel spullen en jassen kunnen achterlaten. \nOok staat er voor ons koffie en thee. \n  \nEERSTE SET VAN 15:15 – 15:30 UUR \n(Genodigden + burgemeester lopen van de kerk naar de sluis) \n\n“Hoor je ’t ruisen der golven?”\n“Kaap’ren Varen”\n“Sailing Home”\n“Janmaat houdt van zingen”\n\n  \nBurgemeester doet welkomstwoord en er is een openingshandeling met een sloep. \nTWEEDE SET VAN 15:45 – 16:00 UUR \n  \n\n“Wieringen”\n“Maggie May”\n“Neeltje Jacoba”\n“The Wild Rover”\n“Anchors Away”\n\n  \nRESERVE (mooi weer\, veel volk) \n  \n\n“Kleine Café aan de Haven”\, 104\, 74\, 98
URL:https://www.onderzeilschagen.nl/journaal/optreden-in-oudesluis-1500-uur/
LOCATION:oudesluis
END:VEVENT
BEGIN:VEVENT
DTSTART;VALUE=DATE:20220501
DTEND;VALUE=DATE:20221211
DTSTAMP:20260426T052302
CREATED:20220325T091333Z
LAST-MODIFIED:20220501T201720Z
UID:3742-1651363200-1670716799@www.onderzeilschagen.nl
SUMMARY:Overzicht geplande openbare optredens 2022
DESCRIPTION:
URL:https://www.onderzeilschagen.nl/journaal/overzicht-geplande-openbare-optredens-2022/
END:VEVENT
BEGIN:VEVENT
DTSTART;VALUE=DATE:20220425
DTEND;VALUE=DATE:20220426
DTSTAMP:20260426T052302
CREATED:20220319T153349Z
LAST-MODIFIED:20220319T153349Z
UID:3737-1650844800-1650931199@www.onderzeilschagen.nl
SUMMARY:Ledenvergadering
DESCRIPTION:Op 25 april is er weer een ledenvergadering aanvang 19.30 uur
URL:https://www.onderzeilschagen.nl/journaal/ledenvergadering/
LOCATION:“De Groene Schakel” Iepenlaan 56 1741 TG SCHAGEN\, Iepenlaan 56\, Schagen\, 1741TG\, Nederland
END:VEVENT
BEGIN:VEVENT
DTSTART;VALUE=DATE:20220423
DTEND;VALUE=DATE:20220424
DTSTAMP:20260426T052302
CREATED:20220316T151348Z
LAST-MODIFIED:20220319T143531Z
UID:3722-1650672000-1650758399@www.onderzeilschagen.nl
SUMMARY:Optreden Allemanskerk Oudkarspel
DESCRIPTION:Hier treden wij op voor mensen die de shantyliederen graag horen aanvang 15.00 uur
URL:https://www.onderzeilschagen.nl/journaal/optreden-allemanskerk-oudkarspel/
LOCATION:Dorpsstraat 878; Oudkarspel\, Dorpsstraat 878\, Oudkarspel
END:VEVENT
BEGIN:VEVENT
DTSTART;VALUE=DATE:20210425
DTEND;VALUE=DATE:20210426
DTSTAMP:20260426T052302
CREATED:20200218T150746Z
LAST-MODIFIED:20200929T093525Z
UID:2926-1619308800-1619395199@www.onderzeilschagen.nl
SUMMARY:KORENFESTIVAL in SCHAGEN
DESCRIPTION:Op 25 april 2021 wordt een Korenfestival georganiseerd door Karel Kok. \nNadere invulling wordt later gegeven.
URL:https://www.onderzeilschagen.nl/journaal/korenfestival-in-schagen-2021/
LOCATION:WESTFRIESE MARKT\, Markt\, Schagen\, 1741BS\, Nederland
END:VEVENT
BEGIN:VEVENT
DTSTART;TZID=Europe/Paris:20201107T140000
DTEND;TZID=Europe/Paris:20201107T170000
DTSTAMP:20260426T052302
CREATED:20190516T135330Z
LAST-MODIFIED:20201020T142404Z
UID:1959-1604757600-1604768400@www.onderzeilschagen.nl
SUMMARY:DEN KOOGH in DEN HELDER
DESCRIPTION:Deze activiteit gaat niet door i.v.m. corona maatregelen. \nOp zaterdag 7 november is er een optreden in het zorgcentrum Den Koogh te Den Helder \n 
URL:https://www.onderzeilschagen.nl/journaal/de-koogh-in-den-helder/
LOCATION:Den Koogh   Den Helder\, Drs.F.Bijlweg 4\, Den Helder\, Noord Holland\, 1784MC
END:VEVENT
BEGIN:VEVENT
DTSTART;TZID=Europe/Paris:20201023T143000
DTEND;TZID=Europe/Paris:20201023T163000
DTSTAMP:20260426T052302
CREATED:20190326T154941Z
LAST-MODIFIED:20201020T142244Z
UID:1899-1603463400-1603470600@www.onderzeilschagen.nl
SUMMARY:TRAMBAAN Nieuwe Niedorp
DESCRIPTION:Deze activiteit gaat niet door i.v.m. corona maatregelen. \nWij zijn uitgenodigd om op te treden bij de Trambaan in Nieuwe Niedorp op vrijdag 23 oktober 2020 van 14:30 tot 16:00 uur.
URL:https://www.onderzeilschagen.nl/journaal/trambaan-nieuwe-niedorp/
END:VEVENT
BEGIN:VEVENT
DTSTART;VALUE=DATE:20200926
DTEND;VALUE=DATE:20200927
DTSTAMP:20260426T052302
CREATED:20200223T130030Z
LAST-MODIFIED:20200921T093335Z
UID:2956-1601078400-1601164799@www.onderzeilschagen.nl
SUMMARY:BUITENGAATS
DESCRIPTION:Deze activiteit gaat niet door i.v.m. corona maatregelen. \nOp 26 september  2020 gaat het Schager Zeemanskoor BUITENGAATS.
URL:https://www.onderzeilschagen.nl/journaal/buitengaats/
END:VEVENT
BEGIN:VEVENT
DTSTART;TZID=Europe/Paris:20200922T193000
DTEND;TZID=Europe/Paris:20200922T213000
DTSTAMP:20260426T052302
CREATED:20200906T121308Z
LAST-MODIFIED:20200921T172918Z
UID:3326-1600803000-1600810200@www.onderzeilschagen.nl
SUMMARY:Ledenvergadering in de Groene Schakel
DESCRIPTION:OP 22 september is er een Algemene LedenVergadering in “De Groene Schakel” \,  Iepenlaan 56\, Schagen. \nAanvang: 19:30 uur.
URL:https://www.onderzeilschagen.nl/journaal/ledenvergadering-in-de-groene-schakel/
LOCATION:“De Groene Schakel” Iepenlaan 56 1741 TG SCHAGEN\, Iepenlaan 56\, Schagen\, 1741TG\, Nederland
END:VEVENT
BEGIN:VEVENT
DTSTART;VALUE=DATE:20200920
DTEND;VALUE=DATE:20200921
DTSTAMP:20260426T052302
CREATED:20200218T151129Z
LAST-MODIFIED:20200830T130017Z
UID:2929-1600560000-1600646399@www.onderzeilschagen.nl
SUMMARY:450 jarig bestaan van CALLANTSOOG
DESCRIPTION:Dit festival gaat niet door i.v.m. corona maatregelen. \nOp zondag 20 september 2020 is er feest op het Dorpsplein in Callantsoog. \nDit feest wordt gehouden ter ere van het 450 jarig bestaan van het dorp. \nDit moet toch voor iedereen een prachtige gelegenheid zijn om ons koor te zien en te horen\, nietwaar?
URL:https://www.onderzeilschagen.nl/journaal/450-jarig-bestaan-van-callantsoog/
LOCATION:Dorpsplein Callantsoog\, Dorpsplein 1\, Callantsoog\, 1751GJ\, Nederland
END:VEVENT
BEGIN:VEVENT
DTSTART;TZID=Europe/Paris:20200912T120000
DTEND;TZID=Europe/Paris:20200912T170000
DTSTAMP:20260426T052302
CREATED:20190326T155518Z
LAST-MODIFIED:20200830T125824Z
UID:1901-1599912000-1599930000@www.onderzeilschagen.nl
SUMMARY:13e Internationale G.J. Shantyfestival in LEEUWARDEN
DESCRIPTION:Dit festival gaat niet door i.v.m. corona maatregelen. \nWij doen op zaterdag 12 september 2020 mee aan het GJ Shantyfestival in Leeuwarden. Het 13e Internationale G.J. Shantyfestival wordt wederom georganiseerd in de binnenstad van Leeuwarden. Heel Leeuwarden zal bruisen van de shanty- en zeemansliederen.  Er hebben zich alweer een aantal koren uit binnen- en buitenland gemeld.
URL:https://www.onderzeilschagen.nl/journaal/13e-internationale-g-j-shantyfestival-in-leeuwarden/
LOCATION:Leeuwarden
END:VEVENT
BEGIN:VEVENT
DTSTART;TZID=Europe/Paris:20200906T110000
DTEND;TZID=Europe/Paris:20200906T170000
DTSTAMP:20260426T052302
CREATED:20200308T125141Z
LAST-MODIFIED:20200608T144715Z
UID:3013-1599390000-1599411600@www.onderzeilschagen.nl
SUMMARY:UITmarkt te SCHAGEN
DESCRIPTION:De Schager UITmarkt gaat dit jaar niet door en wordt verplaats naar zondag 5 september 2021. \n  \nCultureel Schagen presenteert zich tijdens een wervelende en bijzonder vermakelijke UITmarkt!
URL:https://www.onderzeilschagen.nl/journaal/uitmarkt-te-schagen/
LOCATION:WESTFRIESE MARKT\, Markt\, Schagen\, 1741BS\, Nederland
END:VEVENT
BEGIN:VEVENT
DTSTART;TZID=Europe/Paris:20200529T200000
DTEND;TZID=Europe/Paris:20200529T210000
DTSTAMP:20260426T052302
CREATED:20191217T144859Z
LAST-MODIFIED:20200422T092537Z
UID:2716-1590782400-1590786000@www.onderzeilschagen.nl
SUMMARY:Warmenhuizen Verjaardagsfeest voor een 80 jarige
DESCRIPTION:Let op!\nIn verband met het coronavirus zijn er geen optredens tot 1 SEPTEMBER 2020.  \nOp vrijdag 29 mei 2020 treden wij op tijdens het 80 jarige verjaardagsfeest van de heer Klaas Deuzeman.\nHet optreden is vanaf 20:00 uur tot 21:00 uur.\nDorpshuis 126\, 1749 AJ Warmenhuizen.
URL:https://www.onderzeilschagen.nl/journaal/warmenhuizen-verjaardagsfeest-voor-een-80-jarige/
LOCATION:17449AJ Warmenhuizen\, Dorpshuis 126\, Warmenhuizen\, 1749AJ
END:VEVENT
BEGIN:VEVENT
DTSTART;TZID=Europe/Paris:20200523T140000
DTEND;TZID=Europe/Paris:20200523T170000
DTSTAMP:20260426T052302
CREATED:20191217T144329Z
LAST-MODIFIED:20200422T092507Z
UID:2713-1590242400-1590253200@www.onderzeilschagen.nl
SUMMARY:DOKKUM Botenvereniging
DESCRIPTION:Let op!\nIn verband met het coronavirus zijn er geen optredens tot 1 SEPTEMBER 2020.
URL:https://www.onderzeilschagen.nl/journaal/dokkum-botenvereniging/
LOCATION:Dokkum\, Diepswal 21\, Dokkum\, 9101LA
END:VEVENT
BEGIN:VEVENT
DTSTART;TZID=Europe/Paris:20200517T133000
DTEND;TZID=Europe/Paris:20200517T173000
DTSTAMP:20260426T052302
CREATED:20200308T130419Z
LAST-MODIFIED:20200422T092422Z
UID:3017-1589722200-1589736600@www.onderzeilschagen.nl
SUMMARY:BINNEN de DIJKEN in het GEMAAL "LEEMANS"
DESCRIPTION:Let op!\nIn verband met het coronavirus zijn er geen optredens tot 1 SEPTEMBER 2020.  \nDe stichting “Binnen de Dijken” heeft ons verzocht een optreden te verzorgen.\nADRES: NOORDERDIJKWEG 26 1771MJ WIERINGERWERF\nGemaal ‘Leemans’ is 1 van de 2 gemalen waarmee de Wieringermeer is drooggelegd. Niveauverschil 5\,5 meter.\nIn 1926 werd een start gemaakt met de inpoldering van de Wieringermeer. De 18 kilometer lange dijk kwam in 1930 gereed. Voor de bemaling van de Wieringermeer werden eind 20-er jaren twee gemalen gebouwd\, namelijk:\ngemaal Lely\, een elektrisch gemaal met drie horizontale centrifugaalpompen bij Medemblik en\ngemaal Leemans\, een dieselgemaal met twee verticale centrifugaalpompen bij Den Oever.\nDe keuze voor twee verschillende technieken\, elektriciteit en diesel\, was bewust gemaakt. In tijden van dieselschaarste kon de Lely het werk aan en mocht de stroom uitvallen\, dan was de Leemans nog paraat.
URL:https://www.onderzeilschagen.nl/journaal/binnen-de-dijken-in-het-gemaal-leemans/
LOCATION:Gemaal- Leemans\, Noorderdijkweg 26\, Wieringerwerf\, 1771 MJ\, Nederland
END:VEVENT
BEGIN:VEVENT
DTSTART;TZID=Europe/Paris:20200509T140000
DTEND;TZID=Europe/Paris:20200509T170000
DTSTAMP:20260426T052302
CREATED:20200229T141026Z
LAST-MODIFIED:20200422T151940Z
UID:2982-1589032800-1589043600@www.onderzeilschagen.nl
SUMMARY:URSULAKERK te WARMENHUIZEN
DESCRIPTION:Let op!\nIn verband met het coronavirus zijn er geen optredens tot 1 SEPTEMBER 2020. \nOptreden in de Ursulakerk te Warmenhuizen op 9 mei 2020. \nEen oud-accordeonist van “Onder Zeil” (Wil Buter) heeft gevraagd voor een optreden in de Ursulakerk in Warmenhuizen.
URL:https://www.onderzeilschagen.nl/journaal/ursulakerk-te-warmenhuizen/
LOCATION:17449AJ Warmenhuizen\, Dorpshuis 126\, Warmenhuizen\, 1749AJ
END:VEVENT
BEGIN:VEVENT
DTSTART;TZID=Europe/Paris:20200427T123000
DTEND;TZID=Europe/Paris:20200427T143000
DTSTAMP:20260426T052302
CREATED:20200224T135103Z
LAST-MODIFIED:20200422T092212Z
UID:2966-1587990600-1587997800@www.onderzeilschagen.nl
SUMMARY:KONINGSDAG in CALLANTSOOG
DESCRIPTION:Let op!\nIn verband met het coronavirus zijn er geen optredens tot 1 SEPTEMBER 2020.
URL:https://www.onderzeilschagen.nl/journaal/koningsdag-in-callantsoog/
LOCATION:Dorpsplein Callantsoog\, Dorpsplein 1\, Callantsoog\, 1751GJ\, Nederland
END:VEVENT
BEGIN:VEVENT
DTSTART;TZID=Europe/Paris:20200328T193000
DTEND;TZID=Europe/Paris:20200328T213000
DTSTAMP:20260426T052302
CREATED:20200204T105621Z
LAST-MODIFIED:20200319T123200Z
UID:2902-1585423800-1585431000@www.onderzeilschagen.nl
SUMMARY:ONS EIGEN KROEG te SCHAGERBRUG
DESCRIPTION:Ons optreden op 28 maart 2020 in “Ons Eigen Kroeg” in Schagerbrug gaat NIET door.
URL:https://www.onderzeilschagen.nl/journaal/ons-eigen-kroeg-te-schagerbrug/
LOCATION:Schagerweg 30a 1751 DA Schagerbrug\, Schagerweg 30a\, Schagerbrug\, 1751 DA\, Nederland
END:VEVENT
BEGIN:VEVENT
DTSTART;TZID=Europe/Paris:20200309T193000
DTEND;TZID=Europe/Paris:20200309T213000
DTSTAMP:20260426T052302
CREATED:20190124T155227Z
LAST-MODIFIED:20200128T133450Z
UID:1829-1583782200-1583789400@www.onderzeilschagen.nl
SUMMARY:JAARVERGADERING
DESCRIPTION:Op maandag 9 maart 2020 houden we onze jaarlijkse ledenvergadering in ons clubgebouw.\nAanvang 19:30 uur.
URL:https://www.onderzeilschagen.nl/journaal/jaarvergadering/
LOCATION:Magnusveste\, Menisweg 6\, Schagen\, 1742NJ\, Nederland
END:VEVENT
BEGIN:VEVENT
DTSTART;TZID=Europe/Paris:20200201T090000
DTEND;TZID=Europe/Paris:20200201T160000
DTSTAMP:20260426T052302
CREATED:20190116T123744Z
LAST-MODIFIED:20200123T153528Z
UID:1770-1580547600-1580572800@www.onderzeilschagen.nl
SUMMARY:HET ZINGENDE KEUENTOERNOOI
DESCRIPTION:Op zaterdag 1 februari gaan bemanningsleden van “Onder Zeil” in een biljarttoernooi de strijd aan om de beker voor de beste biljarter van het koor..\nHet toernooi wordt gehouden in “MARKT 18” in de biljartruimte die beschikbaar is gesteld door de “SOOS”.
URL:https://www.onderzeilschagen.nl/journaal/het-zingende-keuentoernooi/
LOCATION:MARKT 18 SOOS\, Torenstraat 1C\, 1741 CB\, Nederland
END:VEVENT
BEGIN:VEVENT
DTSTART;TZID=Europe/Paris:20200126T110000
DTEND;TZID=Europe/Paris:20200126T140000
DTSTAMP:20260426T052302
CREATED:20181016T191920Z
LAST-MODIFIED:20200123T175615Z
UID:1655-1580036400-1580047200@www.onderzeilschagen.nl
SUMMARY:KOFFIE - BENEFIETCONCERT in het kerkje van VALKKOOG
DESCRIPTION:Op zondag 26 januari zijn de koren “ONDER ZEIL”en het “KEETKOOR” uitgenodigd voor een koffie/benefietconcert in het kerkje van Valkkoog.\nHet koffie/benefietconcert is ten bate van NOORDERBAKENS.Intree: €7\,50\nKaarten voor dit benefietconcert te bestellen via E-mail bij Hans Everkers: jeverkers@quicknet.nl \nEr wordt tevens een loterij gehouden.\nVoor het programma van het benefietconcert klik op de hiernaast staande blauwe link: PROGRAMMA BENEFIETCONCERT \nDe huur van kerkje in Valkkoog\, de koffie met een koekje en de overige kosten worden gesponsord!\nOpening door Hans Leeuwenkamp om 11:00 uur.
URL:https://www.onderzeilschagen.nl/journaal/gezamenlijk-optreden-keetkoor-onderzeil/
LOCATION:1744GB Valkkoog\, Valkkogerweg 39\, Valkkoog\, 1744GB\, Nederland
END:VEVENT
BEGIN:VEVENT
DTSTART;TZID=Europe/Paris:20200109T200000
DTEND;TZID=Europe/Paris:20200109T213000
DTSTAMP:20260426T052302
CREATED:20190221T105747Z
LAST-MODIFIED:20191224T150847Z
UID:1863-1578600000-1578605400@www.onderzeilschagen.nl
SUMMARY:camping DE WATERSNIP voor VROUWEN van NU
DESCRIPTION:“Vrouwen van Nu”vieren dan hun 85 jarig bestaan. Het optreden is op donderdagavond 9 januari 2020 vanaf 20:00 uur.\nCamping De Watersnip\, Pettemerweg 4\, 1755 KK Petten.\nVerzamelen op de parkeerplaats om: 19:00 uur\nVertrek vanaf de parkeerplaats om: 19:10 uur.\nAanwezig om: 19:30 uur\nBegin optreden: 20:00 uur
URL:https://www.onderzeilschagen.nl/journaal/camping-de-watersnip-voor-vrouwen-van-nu/
LOCATION:Pettemerweg 4\, 1755KK PETTEN\, Pettemerweg 4\, 1755 KK\, Nederland
END:VEVENT
BEGIN:VEVENT
DTSTART;TZID=Europe/Paris:20191229T133000
DTEND;TZID=Europe/Paris:20191229T173000
DTSTAMP:20260426T052302
CREATED:20190516T140838Z
LAST-MODIFIED:20191218T121620Z
UID:1964-1577626200-1577640600@www.onderzeilschagen.nl
SUMMARY:DE  RIJP meezingmiddag met het "Eilandspolderkoor"
DESCRIPTION:Op zondag 29 december gaan we naar De Rijp. Daar hebben we een “meezingmiddag”met het “Eilandspolderkoor” in de sporthal “De Oosterven”. De middag begint om 13:30 uur.\nDaar vindt een meezingmiddag plaats en is er gelegenheid om gebruik te maken van een plateservice\, voor degenen die zich hiervoor hebben opgegeven..\nDe entree bedraagt € 5\,00 inclusief een kop koffie of thee. In de pauze worden er loten verkocht voor de tombola. De meezingmiddag begint om 13.30 uur en eindigt om 17.00 uur. \nOm een en ander in goede banen te leiden\, het volgende: \nVerzamelen op de parkeerplaats om	 		: 12.00 uur \nVertrek vanaf de parkeerplaats om		  	: 12.20 uur. \nAanwezig om						: 13.00 uur \nBegin meezingmiddag					: 13.30 uur \nHet adres is: Sporthal Oosterven\, Jan Ploegerlaan 2\, 1483 VR de Rijp.
URL:https://www.onderzeilschagen.nl/journaal/de-rijp/
LOCATION:1483 VR Graft De Rijp\, Jan Ploegerlaan 2\, Graft-De Rijp\, 1483 VR
END:VEVENT
BEGIN:VEVENT
DTSTART;TZID=Europe/Paris:20261216T140000
DTEND;TZID=Europe/Paris:20261216T140000
DTSTAMP:20260426T052302
CREATED:20190326T161431Z
LAST-MODIFIED:20260420T153300Z
UID:1906-1797429600-1797429600@www.onderzeilschagen.nl
SUMMARY:KBO afdeling TUITJENHORN 16 December 2026
DESCRIPTION:Op vrijdag 16 december treden wij op voor het KBO\, afdeling Tuitjenhorn.\nOptreden van 14:30 uur tot 16:15 uur.
URL:https://www.onderzeilschagen.nl/journaal/kbo-afdeling-tuitjenhorn/
LOCATION:Dorpshuis Ahoy\, Dorpsstraat 37 Tuitjenhorn\, Tuitjenhorn\, 1774 HA
END:VEVENT
BEGIN:VEVENT
DTSTART;TZID=Europe/Paris:20191123T140000
DTEND;TZID=Europe/Paris:20191123T170000
DTSTAMP:20260426T052302
CREATED:20190801T171754Z
LAST-MODIFIED:20191119T154119Z
UID:2004-1574517600-1574528400@www.onderzeilschagen.nl
SUMMARY:DORPSHUIS te SINT MAARTEN
DESCRIPTION:Ook op zaterdag 23 november 2019 zijn wij te beluisteren in het dorpshuis in Sint Maarten.\nHet adres van het dorpshuis is: Dorpsstraat 9c\, 1744 KJ Sint Maarten. \nHet optreden begint om 14:00 uur\, maar het is gebruikelijk om een half uur van tevoren aanwezig zijn.\nOm het een en ander in goede banen te leiden zijn de volgende afspraken van belang.\nVerzamelen op de parkeerplaats		: 13.00 uur\nVertrek				  	: 13.15 uur
URL:https://www.onderzeilschagen.nl/journaal/dorpshuis-te-sint-maarten-2/
LOCATION:1744KJ Sint Maarten\, Dorpsstraat 9\, Sint Maarten\, 1744KJ\, Nederland
END:VEVENT
BEGIN:VEVENT
DTSTART;TZID=Europe/Paris:20191108T140000
DTEND;TZID=Europe/Paris:20191108T170000
DTSTAMP:20260426T052302
CREATED:20190516T134826Z
LAST-MODIFIED:20191028T084941Z
UID:1957-1573221600-1573232400@www.onderzeilschagen.nl
SUMMARY:Mantelzorgcentrum Den Helder
DESCRIPTION:OP vrijdag 8 november treden wij op in het Koninklijk Instituut van de Marine te Den Helder.\nHet optreden is georganiseerd door het Mantelzorgcentrum Den Helder. \nHet optreden begint om 14:00 uur.\nHet is een besloten bijeenkomst. \nHet adres is: Het Nieuwe Diep 8\, 1781 AC Den Helder.\n Wij kunnen ons melden bij de slagboom van het KIM\, tussen de twee historische gebouwen.\nOmdat we ons op militair terrein bevinden\, is een geldig legitimatiebewijs van belang zoals paspoort\, identiteitskaart of rijbewijs.  \nOm het een en ander in goede banen te leiden zijn de volgende afspraken van belang. \n Verzamelen op de parkeerplaats: 12:45 uur \n Vertrek vanaf de parkeerplaats: 13:00 uur \n Aanwezig in het KIM            : 13:30 uur.
URL:https://www.onderzeilschagen.nl/journaal/mantelzorgcentrum-den-helder/
LOCATION:Het Nieuwe Diep 8\, 1781 AC Den Helder.\, Het Nieuwe Diep 8\, Den Helder\, 1781AC\, Nederland
END:VEVENT
BEGIN:VEVENT
DTSTART;TZID=Europe/Paris:20191026T140000
DTEND;TZID=Europe/Paris:20191026T170000
DTSTAMP:20260426T052302
CREATED:20190326T160201Z
LAST-MODIFIED:20191017T120148Z
UID:1903-1572098400-1572109200@www.onderzeilschagen.nl
SUMMARY:Dorpshuis Sint Maarten
DESCRIPTION:Optreden op zaterdag 26 oktober 2019 in het dorpshuis in Sint Maarten tezamen met muziekvereniging “De Toekomst”. \nAanvang 14:00 uur \nOm de beurt is er een optreden van “Onder Zeil” en de muziekvereniging “De Toekomst”.\nDe dirigent van “De Toekomst” is Steffen Snip. Zij spelen bigbandmuziek\, pop\, rock\, filmmuziek en soms ook licht klassiek.\nDie vereniging bestaat uit circa 30 leden en hebben een variabele muziekvorm. \nVoor nog meer informatie klik op de blauwe link Dorpshuis Sint MaartenDorpshuis Sint Maarten
URL:https://www.onderzeilschagen.nl/journaal/dorpshuis-sint-maarten/
LOCATION:Dorpshuis Sint Maarten\, Dorpsstraat 9c\, Sint Maarten\, 1744KJ
END:VEVENT
BEGIN:VEVENT
DTSTART;TZID=Europe/Paris:20190918T143000
DTEND;TZID=Europe/Paris:20190918T160000
DTSTAMP:20260426T052302
CREATED:20190221T104838Z
LAST-MODIFIED:20190915T110750Z
UID:1861-1568817000-1568822400@www.onderzeilschagen.nl
SUMMARY:woonzorggroep WILGAERDEN\, locatie WESTERHAVEN
DESCRIPTION:Optreden in woonzorggroep Wilgaerden\, locatie Westerhaven\, Achterom 1\, 1621KP Hoorn.\nVerzamelen op de parkeerplaats: 13.00 uur \nVertrek: 13.15 uur \nReistijd ca : 40 minuten \nOptreden: 14.30 uur tot 15.15 uur en van: 15.30 uur tot 16.00 uur
URL:https://www.onderzeilschagen.nl/journaal/woonzorggroep-wilgaerden-locatie-westerhaven/
LOCATION:Achterom 1  1621KP Hoorn\, Achterom 1\, Hoorn\, 1621KP\, Nederland
END:VEVENT
BEGIN:VEVENT
DTSTART;TZID=Europe/Paris:20190908T130000
DTEND;TZID=Europe/Paris:20190908T173000
DTSTAMP:20260426T052302
CREATED:20190326T154525Z
LAST-MODIFIED:20190804T111814Z
UID:1896-1567947600-1567963800@www.onderzeilschagen.nl
SUMMARY:17e  Internationaal Shanty Seasong Festival in Emmen
DESCRIPTION:Wij zijn uitgenodigd om op zondag 8 september 2019 mee te doen aan het 17e Internationaal Shanty Seasong Festival in het centrum van Emmen. Er waren 107 aanmeldingen voor dit festival. Er nemen 24 koren deel\, verdeeld over 8 podia. Een unieke kans om ons koor weer op de kaart te zetten. Het festival begint om 13:00 uur en duurt tot ongeveer 17:30 uur. \nGeen samenzang.\nWat komt er voor in de plaats een gezamenlijke opening om 12.30 uur bij het hoofdpodium naast de Hema.\nHier worden dus alle koren verwacht en zal de opening plaats vinden door wethouder Robert Kleine en voorzitter Hans Groenendal namens de Stichting Shanty Cultuur Emmen.\nCentrum van EMMEN \n0005. Programmaboekje pagina.1. festival 2019 2\n006. Programmaboekje pagina2. festival 2019\nEmmen Podium Indeling 2019
URL:https://www.onderzeilschagen.nl/journaal/17e-internationaal-shanty-seasong-festival-in-emmen/
LOCATION:Centrummanagement infopunt Marktplein 140 7811BA\, Emmen\, Marktplein 140\, Emmen\, 7811BA
END:VEVENT
END:VCALENDAR