BEGIN:VCALENDAR
VERSION:2.0
PRODID:-// - ECPv6.15.20//NONSGML v1.0//EN
CALSCALE:GREGORIAN
METHOD:PUBLISH
X-ORIGINAL-URL:https://www.onderzeilschagen.nl
X-WR-CALDESC:Evenementen voor 
REFRESH-INTERVAL;VALUE=DURATION:PT1H
X-Robots-Tag:noindex
X-PUBLISHED-TTL:PT1H
BEGIN:VTIMEZONE
TZID:Europe/Paris
BEGIN:DAYLIGHT
TZOFFSETFROM:+0100
TZOFFSETTO:+0200
TZNAME:CEST
DTSTART:20240331T010000
END:DAYLIGHT
BEGIN:STANDARD
TZOFFSETFROM:+0200
TZOFFSETTO:+0100
TZNAME:CET
DTSTART:20241027T010000
END:STANDARD
BEGIN:DAYLIGHT
TZOFFSETFROM:+0100
TZOFFSETTO:+0200
TZNAME:CEST
DTSTART:20250330T010000
END:DAYLIGHT
BEGIN:STANDARD
TZOFFSETFROM:+0200
TZOFFSETTO:+0100
TZNAME:CET
DTSTART:20251026T010000
END:STANDARD
BEGIN:DAYLIGHT
TZOFFSETFROM:+0100
TZOFFSETTO:+0200
TZNAME:CEST
DTSTART:20260329T010000
END:DAYLIGHT
BEGIN:STANDARD
TZOFFSETFROM:+0200
TZOFFSETTO:+0100
TZNAME:CET
DTSTART:20261025T010000
END:STANDARD
BEGIN:DAYLIGHT
TZOFFSETFROM:+0100
TZOFFSETTO:+0200
TZNAME:CEST
DTSTART:20270328T010000
END:DAYLIGHT
BEGIN:STANDARD
TZOFFSETFROM:+0200
TZOFFSETTO:+0100
TZNAME:CET
DTSTART:20271031T010000
END:STANDARD
END:VTIMEZONE
BEGIN:VEVENT
DTSTART;TZID=Europe/Paris:20250823T080000
DTEND;TZID=Europe/Paris:20250823T170000
DTSTAMP:20260425T182055
CREATED:20250817T092950Z
LAST-MODIFIED:20250817T093550Z
UID:4546-1755936000-1755968400@www.onderzeilschagen.nl
SUMMARY:Optreden petten 23 augustus
DESCRIPTION:  \n  \nHierbij veel informatie over 23 augustus\, Pleinfeest Petten \nHet is voor ons een kort en strak programma! \nDe techniek lijkt geregeld\, maar afstemming is zeker nodig! \nHeren van de techniek\, neem s.v.p. contact op Higher Ground \nproductions\, Arne Meintjes om e.e.a. door te spreken (zie info in \nbijgaande brief.) \nHet kan alleen maar een kort en krachtig optreden worden. \n  \nZeemanskoor ONDER ZEIL \n14.20 uur tot 14.40 uur \n15.10 uur tot 15.40 uur \n  \nGroet\, \nNico Roelse \n  \nLine Up \nOnderstaand de optreedtijden van de Koren\, de artiesten en de bands. \nLET OP\, de tijden dienen stipt aangehouden worden. \nER IS GEEN UITLOOP. De eindtijd is 23.00 uur. \nKoor HET SCHEEPSTUYGH \n14.00 uur tot 14.20 uur \n14.40 uur tot 15.10 uur \nZeemanskoor ONDER ZEIL \n14.20 uur tot 14.40 uur \n15.10 uur tot 15.40 uur \nBand The Farce \n15.40 uur tot 16.10 uur \n16.30 uur tot 17.00 uur \nPeter Meyer \n16.10 uur tot 16.30 uur \n17.00 uur tot 17.20 uur \n18.00 uur tot 18.20 uur \nDe Hijgende Herten \n17.20 uur tot 18.00 uur \n19.30 uur tot 20.10 uur \n21.40 uur tot 22.10. uur \nAnnelie Smits \n19.00 uur tot 19.30 uur \n20.10 uur tot 20.40 uur \n21.20 uur tot 21.40 uur \nThe Feel Like Dancing Party Band \n18.20 uur tot 19.00 uur \n20.40 uur tot 21.20 uur \n22.20 uur tot 23.00 uur \n  \n  \n 
URL:https://www.onderzeilschagen.nl/journaal/optreden-petten/
END:VEVENT
BEGIN:VEVENT
DTSTART;TZID=Europe/Paris:20250828T080000
DTEND;TZID=Europe/Paris:20250828T170000
DTSTAMP:20260425T182055
CREATED:20250817T093405Z
LAST-MODIFIED:20250817T093957Z
UID:4550-1756368000-1756400400@www.onderzeilschagen.nl
SUMMARY:Optreden West-Friese markt 28 augustus
DESCRIPTION:Op donderdag 28 augustus hebben wij weer een optreden op de west Friese markt schagen
URL:https://www.onderzeilschagen.nl/journaal/optreden-west-friese-markt-28-augustus/
LOCATION:Schagen markt\, Markt\, Schagen\, N H\, 1741 BS\, Netherlands
END:VEVENT
BEGIN:VEVENT
DTSTART;TZID=Europe/Paris:20250908T080000
DTEND;TZID=Europe/Paris:20250908T170000
DTSTAMP:20260425T182055
CREATED:20250829T174756Z
LAST-MODIFIED:20250923T143730Z
UID:4560-1757318400-1757350800@www.onderzeilschagen.nl
SUMMARY:Optreden in st Maarten \, maandag 8 September kermis
DESCRIPTION:Maandag 8 Septembes hebben wij een optreden tijdens de kermis in st Maarten . \n12 uur beginnen we
URL:https://www.onderzeilschagen.nl/journaal/optreden-in-st-maarten-8-augustus-kermis/
END:VEVENT
BEGIN:VEVENT
DTSTART;TZID=Europe/Paris:20250923T080000
DTEND;TZID=Europe/Paris:20250923T170000
DTSTAMP:20260425T182055
CREATED:20250923T142827Z
LAST-MODIFIED:20250923T142827Z
UID:4621-1758614400-1758646800@www.onderzeilschagen.nl
SUMMARY:Optreden in de Bron Schagen 12 December 2025
DESCRIPTION:We verzorgen 12 December 2025 een optreden in verzorgingstehuis de Bron in  schagen. \nHet optreden is van 19:00 tot 20:00 uur aanwezig zijn om 18:30 uur
URL:https://www.onderzeilschagen.nl/journaal/optreden-in-de-bron-schagen-12-december-2025/
END:VEVENT
BEGIN:VEVENT
DTSTART;TZID=Europe/Paris:20260420T160000
DTEND;TZID=Europe/Paris:20260420T170000
DTSTAMP:20260425T182055
CREATED:20260420T152923Z
LAST-MODIFIED:20260420T152923Z
UID:4646-1776700800-1776704400@www.onderzeilschagen.nl
SUMMARY:9 december Schagen Alzheimer café de Bron 19.30 uur
DESCRIPTION:
URL:https://www.onderzeilschagen.nl/journaal/9-december-schagen-alzheimer-cafe-de-bron-19-30-uur/
END:VEVENT
BEGIN:VEVENT
DTSTART;TZID=Europe/Paris:20260505T110000
DTEND;TZID=Europe/Paris:20260505T150000
DTSTAMP:20260425T182055
CREATED:20260412T143310Z
LAST-MODIFIED:20260414T122419Z
UID:4634-1777978800-1777993200@www.onderzeilschagen.nl
SUMMARY:Minifestival 5 mei 2026 Schagen
DESCRIPTION:Minifestival 5 mei 2026\ninformatie deelnemers\nmaart 2026 \nBeste allemaal. \nOver klein twee maanden is het zover. Wij gaan met z’n allen 81 jaar vrijheid vieren in het cen-\ntrum van de stad Schagen. Hierbij alvast wat informatie over het festival wat wij gaan organi-\nseren. \nLocatie: centrum van de stad Schagen op het plein naast de\nGrote Kerk aan de Markt. Er wordt een tent op het plein geplaatst.\nTijd: opbouw geluid vanaf 09:00 uur\, geheel verzorgd door Onder Zeil.\nSound check: vanaf 10:15 uur.\nBegin festival: 11:00 uur. \nEigendommen/instrumenten kunnen uitgeladen worden voor de kerk (Markt zijde). En even-\ntueel opgeslagen worden in de toren op de begane grond. Bij eventuele wegafzetting even \naangeven dat jullie deelnemers zijn.\nVoorlopig speelschema: we willen graag dat de optredens vlot verlopen\, dus tussen de\nnummers zo weinig mogelijk gesproken woord. Het schema is behoorlijk krap\, hou daar\ntussentijds wel rekening mee\, en zorg dat je op tijd klaar staat voor het volgende optreden.\nDit doen wij om een zo aantrekkelijk optreden te bieden aan het publiek.\nDe dirigent laat tijdig weten met welke liederen de optredens ingevuld gaan worden.\nSolisten geef je beschikbaatheid tijdelijk door. Veel succes met de voorbereiding.\nBestuur en vrijwilligers stichting 4 en 5 mei Schagen.\nwww.4en5meischagen.nl \nVoorlopig schema\n11:00-11:25 Onder Zeil                                   25 min\n11:30-11:55 ‘t Scheepstuyg                             25 min\n12:00-12:25 Havenstraatzangers                     25 min\n12:30-13:00 Onder Zeil                                   30 min\n13:10-13:40 ‘t Scheepstuygh                           30 min\n13:45-14:15 Havenstraatzangers                     30 min\n14:20-15:00 Onder Zeil / slotstuk eventueel   30 + 10 min\nmet ‘t Scheepstuygh \n  \nGegevens organisatie en deelnemers.\nOrganisatie: Stichting 4 en 5 mei Schagen\, Maarten Weel 06 25195024\,\ninfo@4en5meischagen.nl\nFloormanager: Onder Zeil\, Nico Roelse\, 06 53295737\, n.roelse@gmail.com\nGeluid: Onder Zeil\, Nico Noordstrand\, 06 13243526\, niconoordstrand@live.nl\nGeluidsversterking: DSL Geluids- & Lichtverhuur\, Martijn de Bonte\nDirigent: Onder Zeil: Fred Lagerweij\, 06 27623906\, fred1lagerweij@gmail.com\nContactpersoon: ‘t Scheepstuygh: Arie Tamis\, 06 51403522\, arietamis42@gmail.com\nContactp.Havenstraatzangers: Jacqueline Luken\, 06 37352274\,\nhavenstraatzangers@gmail.com \nAls basis geluidversterking wordt het geluid van Onder Zeil gebruikt met aanvulling van extra\nversterker en geluidboxen van DSL. Deze installatie blijft als basis staan en heeft voldoende\ncapaciteit en aansluitmogelijkheden voor al het optreden. Hierdoor is een snelle chancement\nmogelijk.\nEr zijn voldoende microfoons aanwezig. Het gebruik van de gitaarversterkers\, in overleg.\nDe geluidsregeling wordt uitgevoerd door de geluidsman van Onder Zeil zie bovenstaande.\nGraag ontvangen wij van jullie een korte beschrijving en\ntwee recentelijke foto’s voor publiciteit en onze website:\ninfo@4en5meischagen.nl\nwww.4en5meischagen.nl
URL:https://www.onderzeilschagen.nl/journaal/minifestival-5-mei-2026-schagen/
LOCATION:Schagen markt\, Markt\, Schagen\, N H\, 1741 BS\, Netherlands
ORGANIZER;CN="Stichting 4 en 5 Mei Schagen":MAILTO:info@4en5meischagen.nl
END:VEVENT
BEGIN:VEVENT
DTSTART;TZID=Europe/Paris:20260807T133000
DTEND;TZID=Europe/Paris:20260807T170000
DTSTAMP:20260425T182055
CREATED:20240703T115239Z
LAST-MODIFIED:20260420T152229Z
UID:4379-1786109400-1786122000@www.onderzeilschagen.nl
SUMMARY:Monnickendammer Visserijdagendagen vrijdag 7 augustus 2026
DESCRIPTION:Vrijdag 7 Augustus zijn wij weer uitgenodigd om een optreden te verzorgen tijdens de visserijdagen in Monnickendam . \n  \nAanvang 13:30 \n 
URL:https://www.onderzeilschagen.nl/journaal/monnickendammer-visserijdagendagen-vrijdag-16-augustus-2024/
LOCATION:MONNICKENDAM\, Monnickendam\, Nederland
END:VEVENT
BEGIN:VEVENT
DTSTART;TZID=Europe/Paris:20260906T150000
DTEND;TZID=Europe/Paris:20260906T170000
DTSTAMP:20260425T182055
CREATED:20220319T151214Z
LAST-MODIFIED:20260420T152703Z
UID:3734-1788706800-1788714000@www.onderzeilschagen.nl
SUMMARY:Optreden uitmarkt Schagen 6 September 2026 aanvang 15:25 uur
DESCRIPTION:Optreden uitmarkt Schagen\, \nDe uitmarkt is de opening van het culturele seizoen in de regio . \nIn een bonte verscheidenheid doen groepen van diverse pluimage mee aan de veelkleurige happening in en rond het cultuurplein.
URL:https://www.onderzeilschagen.nl/journaal/optreden-uitmarkt-schagen/
LOCATION:Slotplein 1741 BS Schagen
END:VEVENT
END:VCALENDAR