BEGIN:VCALENDAR
VERSION:2.0
PRODID:-// - ECPv6.15.20//NONSGML v1.0//EN
CALSCALE:GREGORIAN
METHOD:PUBLISH
X-ORIGINAL-URL:https://www.onderzeilschagen.nl
X-WR-CALDESC:Evenementen voor 
REFRESH-INTERVAL;VALUE=DURATION:PT1H
X-Robots-Tag:noindex
X-PUBLISHED-TTL:PT1H
BEGIN:VTIMEZONE
TZID:Europe/Paris
BEGIN:DAYLIGHT
TZOFFSETFROM:+0100
TZOFFSETTO:+0200
TZNAME:CEST
DTSTART:20240331T010000
END:DAYLIGHT
BEGIN:STANDARD
TZOFFSETFROM:+0200
TZOFFSETTO:+0100
TZNAME:CET
DTSTART:20241027T010000
END:STANDARD
BEGIN:DAYLIGHT
TZOFFSETFROM:+0100
TZOFFSETTO:+0200
TZNAME:CEST
DTSTART:20250330T010000
END:DAYLIGHT
BEGIN:STANDARD
TZOFFSETFROM:+0200
TZOFFSETTO:+0100
TZNAME:CET
DTSTART:20251026T010000
END:STANDARD
BEGIN:DAYLIGHT
TZOFFSETFROM:+0100
TZOFFSETTO:+0200
TZNAME:CEST
DTSTART:20260329T010000
END:DAYLIGHT
BEGIN:STANDARD
TZOFFSETFROM:+0200
TZOFFSETTO:+0100
TZNAME:CET
DTSTART:20261025T010000
END:STANDARD
END:VTIMEZONE
BEGIN:VEVENT
DTSTART;TZID=Europe/Paris:20250111T080000
DTEND;TZID=Europe/Paris:20250111T170000
DTSTAMP:20260426T031904
CREATED:20241208T151050Z
LAST-MODIFIED:20241208T151515Z
UID:4452-1736582400-1736614800@www.onderzeilschagen.nl
SUMMARY:Zaterdag 11 januari Zonnebloem optreden Meerhoeve\, Middenmeer
DESCRIPTION:Optreden voor de Zonnebloem Wieringermeer op zaterdag 11 januari 2025 . In de Meerhoeve aan de Cultuurweg 4 in Middenmeer \, van ongeveer 14 tot 17 uur
URL:https://www.onderzeilschagen.nl/journaal/zaterdag-11-januari-zonnebloem-optreden-meerhoeve-middenmeer/
LOCATION:Middenmeer Cultuurweg 4\, Cultuurweg 4\, Middenmeer\, N H\, Netherlands
END:VEVENT
END:VCALENDAR